BEGIN:VCALENDAR
VERSION:2.0
PRODID:-//Jamestown Country Club - Jamestown, ND - ECPv6.15.20//NONSGML v1.0//EN
CALSCALE:GREGORIAN
METHOD:PUBLISH
X-WR-CALNAME:Jamestown Country Club - Jamestown, ND
X-ORIGINAL-URL:https://jccgolf.com
X-WR-CALDESC:Events for Jamestown Country Club - Jamestown, ND
REFRESH-INTERVAL;VALUE=DURATION:PT1H
X-Robots-Tag:noindex
X-PUBLISHED-TTL:PT1H
BEGIN:VTIMEZONE
TZID:UTC
BEGIN:STANDARD
TZOFFSETFROM:+0000
TZOFFSETTO:+0000
TZNAME:UTC
DTSTART:20250101T000000
END:STANDARD
END:VTIMEZONE
BEGIN:VTIMEZONE
TZID:America/Chicago
BEGIN:DAYLIGHT
TZOFFSETFROM:-0600
TZOFFSETTO:-0500
TZNAME:CDT
DTSTART:20250309T080000
END:DAYLIGHT
BEGIN:STANDARD
TZOFFSETFROM:-0500
TZOFFSETTO:-0600
TZNAME:CST
DTSTART:20251102T070000
END:STANDARD
BEGIN:DAYLIGHT
TZOFFSETFROM:-0600
TZOFFSETTO:-0500
TZNAME:CDT
DTSTART:20260308T080000
END:DAYLIGHT
BEGIN:STANDARD
TZOFFSETFROM:-0500
TZOFFSETTO:-0600
TZNAME:CST
DTSTART:20261101T070000
END:STANDARD
BEGIN:DAYLIGHT
TZOFFSETFROM:-0600
TZOFFSETTO:-0500
TZNAME:CDT
DTSTART:20270314T080000
END:DAYLIGHT
BEGIN:STANDARD
TZOFFSETFROM:-0500
TZOFFSETTO:-0600
TZNAME:CST
DTSTART:20271107T070000
END:STANDARD
END:VTIMEZONE
BEGIN:VEVENT
DTSTART;TZID=UTC:20260317T000000
DTEND;TZID=UTC:20260317T235959
DTSTAMP:20260423T185151
CREATED:20231122T042235Z
LAST-MODIFIED:20250630T230621Z
UID:10000006-1773705600-1773791999@jccgolf.com
SUMMARY:Saint Patrick's Day
DESCRIPTION:
URL:https://jccgolf.com/event/saint-patricks-day/
CATEGORIES:Holidays
END:VEVENT
BEGIN:VEVENT
DTSTART;TZID=America/Chicago:20260428T000000
DTEND;TZID=America/Chicago:20260428T150000
DTSTAMP:20260423T185151
CREATED:20260423T161315Z
LAST-MODIFIED:20260423T161316Z
UID:10000009-1777334400-1777388400@jccgolf.com
SUMMARY:JHS BOYS INVITE
DESCRIPTION:Course and clubhouse closed until roughly 3pm for the event.
URL:https://jccgolf.com/event/jhs-boys-invite/
END:VEVENT
BEGIN:VEVENT
DTSTART;TZID=America/Chicago:20260526T000000
DTEND;TZID=America/Chicago:20260526T235959
DTSTAMP:20260423T185151
CREATED:20260423T145204Z
LAST-MODIFIED:20260423T145347Z
UID:10000007-1779753600-1779839999@jccgolf.com
SUMMARY:CLASS B SUPER REGIONAL
DESCRIPTION:Clubhouse and course will be closed all day for this event.
URL:https://jccgolf.com/event/class-b-super-regional/
END:VEVENT
BEGIN:VEVENT
DTSTART;TZID=America/Chicago:20260605T000000
DTEND;TZID=America/Chicago:20260605T235959
DTSTAMP:20260423T185151
CREATED:20260423T145555Z
LAST-MODIFIED:20260423T145556Z
UID:10000008-1780617600-1780703999@jccgolf.com
SUMMARY:ANNE CARLSEN CENTER SCRAMBLE
DESCRIPTION:Course and clubhouse will be closed all day for the event.
URL:https://jccgolf.com/event/anne-carlsen-center-scramble/
END:VEVENT
END:VCALENDAR